BEGIN:VCALENDAR
VERSION:2.0
PRODID:-//NIGHTJAR CANNABIS - ECPv6.15.20//NONSGML v1.0//EN
CALSCALE:GREGORIAN
METHOD:PUBLISH
X-ORIGINAL-URL:https://nightjarcannabis.com
X-WR-CALDESC:Events for NIGHTJAR CANNABIS
REFRESH-INTERVAL;VALUE=DURATION:PT1H
X-Robots-Tag:noindex
X-PUBLISHED-TTL:PT1H
BEGIN:VTIMEZONE
TZID:UTC
BEGIN:STANDARD
TZOFFSETFROM:+0000
TZOFFSETTO:+0000
TZNAME:UTC
DTSTART:20250101T000000
END:STANDARD
END:VTIMEZONE
BEGIN:VEVENT
DTSTART;TZID=UTC:20260321T180000
DTEND;TZID=UTC:20260321T210000
DTSTAMP:20260422T180106
CREATED:20260313T011735Z
LAST-MODIFIED:20260313T011735Z
UID:1932-1774116000-1774126800@nightjarcannabis.com
SUMMARY:Botanical Bash at Nightjar Cannabis - Spring 2026
DESCRIPTION:Hey you! Spring is on the way\, and you are cordially invited to Nightjar’s Botanical Bash on Saturday\, March 21\, 2026 from 6:00-9:00pm at our Bloomfield\, NJ cannabis dispensary at 549 Bloomfield Ave.  Live it up with your friends and favorite vendors as we celebrate the season. Activities include a Joint Rolling Contest\, Botanical Bar\, Crafting\, and the “Best Dressed Floral Fit Contest.” Bring it\, Bloomfield.\nHuge thanks to our partners Green Lightning\, Glass Meadows\, Bango\, OGeez\, Loud Labs\, and Edie Parker for co-hosting the event. See you soon!\n 
URL:https://nightjarcannabis.com/event/botanical-bash-cannabis-event-bloomfield-nj/
LOCATION:549 Bloomfield Ave\, Bloomfield\, NJ 07003\, USA
ATTACH;FMTTYPE=image/png:https://nightjarcannabis.com/wp-content/uploads/2026/03/Bloomfield-Dispensary-Events-Botantical-Bash-Nightjar-Cannabis.avif
END:VEVENT
BEGIN:VEVENT
DTSTART;TZID=UTC:20260404T120000
DTEND;TZID=UTC:20260404T160000
DTSTAMP:20260422T180106
CREATED:20260401T141852Z
LAST-MODIFIED:20260401T141852Z
UID:2039-1775304000-1775318400@nightjarcannabis.com
SUMMARY:Pet Photos with the Easter Bunny - Bloomfield\, NJ
DESCRIPTION:Spring is arguably the “most cute” season in Bloomfield\, NJ\, and this next event might result in a true cuteness overload:  Pictures of your fur baby with the Easter Bunny!  That’s right\, the big EB himself (herself?!) will be making a special appearance at our Bloomfield\, NJ cannabis dispensary to hand out some special pet-friendly treats and take a fun picture that will live on your fridge forever.  If you’re in CT this weekend\, don’t worry because we’ve got lots of rabbit friends at our East Lyme\, CT cannabis dispensary as well.  Hop on by this Saturday for a little bit of fun.
URL:https://nightjarcannabis.com/event/pet-photos-easter-bunny-bloomfield-nj-cannabis-dispensary/
LOCATION:549 Bloomfield Ave\, Bloomfield\, NJ 07003\, USA
ATTACH;FMTTYPE=image/png:https://nightjarcannabis.com/wp-content/uploads/2026/04/Pet-photos-with-Easter-Bunny-Bloomfield-NJ-Dispensary.avif
END:VEVENT
BEGIN:VEVENT
DTSTART;TZID=UTC:20260404T120000
DTEND;TZID=UTC:20260404T160000
DTSTAMP:20260422T180106
CREATED:20260401T142358Z
LAST-MODIFIED:20260401T142358Z
UID:2045-1775304000-1775318400@nightjarcannabis.com
SUMMARY:Pet Photos with the Easter Bunny - East Lyme\, CT
DESCRIPTION:Spring is arguably the “most cute” season in East Lyme\, CT\, and this next event might result in a true cuteness overload:  Pictures of your fur baby with the Easter Bunny!  That’s right\, the big EB himself (herself?!) will be making a special appearance at our East Lyme cannabis dispensary to hand out some special pet-friendly treats and take a fun picture that will live on your fridge forever.  If you’re in New Jersey this weekend\, don’t worry because we’ve got lots of rabbit friends at our Bloomfield\, NJ cannabis dispensary as well.  Hop on by this Saturday for a little bit of fun.
URL:https://nightjarcannabis.com/event/pet-photos-easter-bunny-east-lyme-ct-cannabis-dispensary/
LOCATION:15 Colton Road\, East Lyme\, CT 06333\, USA\, 15 Colton Road\, East Lyme\, CT\, 06333\, United States
ATTACH;FMTTYPE=image/png:https://nightjarcannabis.com/wp-content/uploads/2026/04/Pet-photos-with-Easter-Bunny-in-East-Lyme-Cannabis-Dispensary.avif
END:VEVENT
BEGIN:VEVENT
DTSTART;TZID=UTC:20260418T090000
DTEND;TZID=UTC:20260420T200000
DTSTAMP:20260422T180106
CREATED:20260401T134950Z
LAST-MODIFIED:20260401T134950Z
UID:2034-1776502800-1776715200@nightjarcannabis.com
SUMMARY:4/20 Weekend at Nightjar Cannabis in East Lyme\, CT
DESCRIPTION:Think bold\, sparkly\, desert-chic. Come celebrate 4/20 with Nightjar at our Coachella-inspired celebration taking place all weekend at our East Lyme\, CT cannabis dispensary.  We’re bringing festival vibes\, good energy\, and elevated experiences all in one place.  Mark your calendar because we’ve got the best deals of the year\, doorbusters\, amazing prizes\, tasty food\, and all new crafts on Saturday 4/18\, Sunday 4/19\, and then on Monday 4/20.  We can’t wait to celebrate with you in East Lyme!   And if you’re also going to be in New Jersey\, you’ve gotta stop by our Bloomfield\, NJ cannabis dispensary to experience Nightjarchella all over again 🙂
URL:https://nightjarcannabis.com/event/4-20-weekend-at-nightjar-cannabis-in-east-lyme-ct/
LOCATION:15 Colton Road\, East Lyme\, CT 06333\, USA\, 15 Colton Road\, East Lyme\, CT\, 06333\, United States
ATTACH;FMTTYPE=image/png:https://nightjarcannabis.com/wp-content/uploads/2026/04/East-Lyme-Mystic-Norwich-420-Event-Nightjar-Cannabis-420-Deals.avif
END:VEVENT
BEGIN:VEVENT
DTSTART;TZID=UTC:20260418T090000
DTEND;TZID=UTC:20260420T210000
DTSTAMP:20260422T180106
CREATED:20260401T133840Z
LAST-MODIFIED:20260401T135157Z
UID:2029-1776502800-1776718800@nightjarcannabis.com
SUMMARY:4/20 Weekend at Nightjar Cannabis in Bloomfield\, NJ
DESCRIPTION:Think bold\, sparkly\, desert-chic. Come celebrate 4/20 with Nightjar at our Coachella-inspired celebration taking place all weekend at our Bloomfield\, NJ cannabis dispensary.  We’re bringing festival vibes\, good energy\, and elevated experiences all in one place.  Mark your calendar because we’ve got the best deals of the year\, doorbusters\, amazing prizes\, tasty food\, and all new crafts on Saturday 4/18\, Sunday 4/19\, and then on Monday 4/20.  We can’t wait to celebrate with you!   And if you’re also going to be in Connecticut\, you’ve gotta stop by our East Lyme\, CT cannabis dispensary to experience Nightjarchella all over again 🙂
URL:https://nightjarcannabis.com/event/4-20-weekend-at-nightjar-cannabis-in-bloomfield-nj/
LOCATION:549 Bloomfield Ave\, Bloomfield\, NJ 07003\, USA
ATTACH;FMTTYPE=image/png:https://nightjarcannabis.com/wp-content/uploads/2026/04/Bloomfield-420-Event-Nightjar-Cannabis-Nightjarchella.avif
END:VEVENT
END:VCALENDAR