BEGIN:VCALENDAR
VERSION:2.0
PRODID:-//NIGHTJAR CANNABIS - ECPv6.15.20//NONSGML v1.0//EN
CALSCALE:GREGORIAN
METHOD:PUBLISH
X-WR-CALNAME:NIGHTJAR CANNABIS
X-ORIGINAL-URL:https://nightjarcannabis.com
X-WR-CALDESC:Events for NIGHTJAR CANNABIS
REFRESH-INTERVAL;VALUE=DURATION:PT1H
X-Robots-Tag:noindex
X-PUBLISHED-TTL:PT1H
BEGIN:VTIMEZONE
TZID:UTC
BEGIN:STANDARD
TZOFFSETFROM:+0000
TZOFFSETTO:+0000
TZNAME:UTC
DTSTART:20230101T000000
END:STANDARD
END:VTIMEZONE
BEGIN:VEVENT
DTSTART;TZID=UTC:20241005T150000
DTEND;TZID=UTC:20241005T180000
DTSTAMP:20260423T111325
CREATED:20241104T163833Z
LAST-MODIFIED:20250818T220611Z
UID:658-1728140400-1728151200@nightjarcannabis.com
SUMMARY:Mudd Brothers X Nightjar\, A Muddy Tasting + Pop Up Event
DESCRIPTION:Purchase any Mudd Brothers product from 9/23/24 – 10/5/24 and receive exclusive access to a private tasting of the Mudd Brothers Live Resin Products 3-6pm. \nMunchies by Avenue Pizza available at Nightjar at 6pm! \nRSVP HERE!
URL:https://nightjarcannabis.com/event/mudd-brothers-x-nightjar-a-muddy-tasting-pop-up-event/
ATTACH;FMTTYPE=image/jpeg:https://nightjarcannabis.com/wp-content/uploads/2024/11/MuddBrosEventBanner_M-768x346-1.jpeg
END:VEVENT
BEGIN:VEVENT
DTSTART;TZID=UTC:20240912T170000
DTEND;TZID=UTC:20240912T210000
DTSTAMP:20260423T111325
CREATED:20241104T164223Z
LAST-MODIFIED:20241104T164223Z
UID:661-1726160400-1726174800@nightjarcannabis.com
SUMMARY:End of Summer Spectacular Party with Timeless\, MPX and Grön
DESCRIPTION:Celebrate the end of the season at Nightjar with our friends from Grön\, Timeless and MPX! Join us for food\, giveaways and good vibes. Let us know you’re coming so we can plan for food and goodies 🙂 \nBring your buddy\, your ex\, or your neighbor who ‘borrows’ your Wi-Fi (bonus points if all three are the same person). Can’t wait to party with you!\n\nRSVP Here!
URL:https://nightjarcannabis.com/event/end-of-summer-spectacular-party-with-timeless-mpx-and-gron/
LOCATION:549 Bloomfield Ave\, Bloomfield\, NJ 07003\, USA
ATTACH;FMTTYPE=image/png:https://nightjarcannabis.com/wp-content/uploads/2024/11/summerspect_invite_Screen_H-1536x864-1.png
END:VEVENT
BEGIN:VEVENT
DTSTART;TZID=UTC:20240713T162000
DTEND;TZID=UTC:20240713T200000
DTSTAMP:20260423T111325
CREATED:20241104T164322Z
LAST-MODIFIED:20241104T164322Z
UID:664-1720887600-1720900800@nightjarcannabis.com
SUMMARY:710/Oil Day Party with Timeless and MPX
DESCRIPTION:In honor of 710 (OiL Day!)\, we’re throwing a party with our friends at Timeless and MPX on Saturday\, 7/13 from 4:20-8pm! Let us know you’re coming so we can plan for food and goodies 🙂 \n\nThere will be free food\, giveaways\, and weed-related activities for you to enjoy. Bring a friend\, bring an enemy\, bring your mom (bonus points if all three are the same person). See you there!\nRSVP Here!
URL:https://nightjarcannabis.com/event/710-oil-day-party-with-timeless-and-mpx/
LOCATION:549 Bloomfield Ave\, Bloomfield\, NJ 07003\, USA
END:VEVENT
BEGIN:VEVENT
DTSTART;TZID=UTC:20240524T140000
DTEND;TZID=UTC:20240524T200000
DTSTAMP:20260423T111325
CREATED:20241104T164430Z
LAST-MODIFIED:20251105T145352Z
UID:666-1716559200-1716580800@nightjarcannabis.com
SUMMARY:PRECIOUS X Nightjar
DESCRIPTION:Get ready for a night of celebration and excitement at the PRECIOUS X Nightjar Party! Join us for light bites\, delicious mocktails\, and a vibrant atmosphere. Spin the wheel for prizes and meet the founder of PRECIOUS\, NJ’s first black female pre-roll brand. Must be 21+ with valid photo ID. \n2-4pm: PRECIOUS pop up in store \n5-8pm: Free food\, mocktails\, spin the wheel \n  \nLet us know you’re coming so we can plan for food and giveaways \nRSVP HERE!
URL:https://nightjarcannabis.com/event/precious-x-nightjar/
LOCATION:549 Bloomfield Ave\, Bloomfield\, NJ 07003\, USA
ATTACH;FMTTYPE=image/png:https://nightjarcannabis.com/wp-content/uploads/2024/11/NJ24_precious_0514_eventbrite-1536x768-1.png
END:VEVENT
BEGIN:VEVENT
DTSTART;TZID=UTC:20240420T090000
DTEND;TZID=UTC:20240420T210000
DTSTAMP:20260423T111325
CREATED:20241104T164556Z
LAST-MODIFIED:20251105T145419Z
UID:669-1713603600-1713646800@nightjarcannabis.com
SUMMARY:Nightjar's 4/20 Extravaganja!
DESCRIPTION:RSVP HERE \nJoin us for free coffee\, food\, music\, giveaways\, raffles\, and weed-related activities for you to enjoy all day along with amazing deals on your purchase!\n\n\nCannabis Brand Pop Up Schedule for the Day: \n Grön: 11:30am – 2pm \nTimeless: 2pm – 4pm \nElyon + Feelz: 4pm – 6pm \nThe Growfather: 5pm – 6pm \nFree Munchies & Entertainment \nCozz Coffee 9 – 12 | Caffeine     fix \nDadzie Patisserie 9-12 | Delish pastries \nStoner DIY 12 – 3 | Make an apple pipe \nTootie Cookies 12 – 4 | & assorted munchies \nLive DJ 5-8 | Move to the music \nTacos La Gringa  5-8 | Food is love \nTrue Vibes Photobooths 5 – 8 | Strike a pose \nSky High Decor | Catch us outside \nGiveaways All day | Acquire cool stuff \nSpin the wheel All day | Spin it to win it
URL:https://nightjarcannabis.com/event/nightjars-4-20-extravaganja/
LOCATION:549 Bloomfield Ave\, Bloomfield\, NJ 07003\, USA
ATTACH;FMTTYPE=image/png:https://nightjarcannabis.com/wp-content/uploads/2024/11/matdubord_cannabis_disco_bcb3d5f1-1a1b-488a-b1ff-15aea321663f.png
END:VEVENT
END:VCALENDAR