BEGIN:VCALENDAR
VERSION:2.0
PRODID:-//NIGHTJAR CANNABIS - ECPv6.15.20//NONSGML v1.0//EN
CALSCALE:GREGORIAN
METHOD:PUBLISH
X-WR-CALNAME:NIGHTJAR CANNABIS
X-ORIGINAL-URL:https://nightjarcannabis.com
X-WR-CALDESC:Events for NIGHTJAR CANNABIS
REFRESH-INTERVAL;VALUE=DURATION:PT1H
X-Robots-Tag:noindex
X-PUBLISHED-TTL:PT1H
BEGIN:VTIMEZONE
TZID:UTC
BEGIN:STANDARD
TZOFFSETFROM:+0000
TZOFFSETTO:+0000
TZNAME:UTC
DTSTART:20230101T000000
END:STANDARD
END:VTIMEZONE
BEGIN:VEVENT
DTSTART;TZID=UTC:20241005T150000
DTEND;TZID=UTC:20241005T180000
DTSTAMP:20260418T122359
CREATED:20241104T163833Z
LAST-MODIFIED:20250818T220611Z
UID:658-1728140400-1728151200@nightjarcannabis.com
SUMMARY:Mudd Brothers X Nightjar\, A Muddy Tasting + Pop Up Event
DESCRIPTION:Purchase any Mudd Brothers product from 9/23/24 – 10/5/24 and receive exclusive access to a private tasting of the Mudd Brothers Live Resin Products 3-6pm. \nMunchies by Avenue Pizza available at Nightjar at 6pm! \nRSVP HERE!
URL:https://nightjarcannabis.com/event/mudd-brothers-x-nightjar-a-muddy-tasting-pop-up-event/
LOCATION:CT
ATTACH;FMTTYPE=image/jpeg:https://nightjarcannabis.com/wp-content/uploads/2024/11/MuddBrosEventBanner_M-768x346-1.jpeg
END:VEVENT
BEGIN:VEVENT
DTSTART;TZID=UTC:20241005T190000
DTEND;TZID=UTC:20241005T210000
DTSTAMP:20260418T122359
CREATED:20241104T163707Z
LAST-MODIFIED:20250818T220606Z
UID:655-1728154800-1728162000@nightjarcannabis.com
SUMMARY:UFC Fight Night!
DESCRIPTION:Join us for Fight Night on Saturday\, 10/5! \nWe’ll be screening the fight at Nightjar with free food\, giveaways\, and weed-related activities for you to enjoy. Festivities kick off at 7pm on 10/5. See you there!\n\nRSVP HERE!
URL:https://nightjarcannabis.com/event/ufc-fight-night/
LOCATION:549 Bloomfield Ave\, Bloomfield\, NJ 07003\, USA
END:VEVENT
BEGIN:VEVENT
DTSTART;TZID=UTC:20241027T120000
DTEND;TZID=UTC:20241027T150000
DTSTAMP:20260418T122359
CREATED:20241104T163620Z
LAST-MODIFIED:20250818T220601Z
UID:652-1730030400-1730041200@nightjarcannabis.com
SUMMARY:ButACake Strip & Stretch
DESCRIPTION:Get ready to strip away the stress and stretch into wellness with ButACake at Nightjar from 12-3pm on Sunday\, 10/27! \nJoin us for an afternoon of self-care\, movement\, and community as we support Breast Cancer Awareness Month. Wear pink\, show your support\, and let’s lift each other up while we raise awareness and celebrate the strength of those who have fought and continue to fight. Let’s make a difference\, one stretch at a time! \nRSVP Here
URL:https://nightjarcannabis.com/event/butacake-strip-stretch/
LOCATION:549 Bloomfield Ave\, Bloomfield\, NJ 07003\, USA
ATTACH;FMTTYPE=image/jpeg:https://nightjarcannabis.com/wp-content/uploads/2024/11/stripstretch_Screen_H-1536x864-1.jpeg
END:VEVENT
BEGIN:VEVENT
DTSTART;TZID=UTC:20241031T170000
DTEND;TZID=UTC:20241031T204500
DTSTAMP:20260418T122359
CREATED:20241104T163255Z
LAST-MODIFIED:20250818T220311Z
UID:646-1730394000-1730407500@nightjarcannabis.com
SUMMARY:Halloweed Costume Party & Dia de los Muertos
DESCRIPTION:Celebrate Halloweed and Dia de los Muertos at Nightjar! Join us for food\, games\, giveaways and good vibes. Let us know you’re coming so we can plan for food and goodies 🙂 \nCome in costume for a chance to win weed-related prizes. It’ll be a scary good time! Bring your bestie\, your sleep paralysis demon\, or your favorite DoorDash delivery driver (DoorDash\, sponsor us!). Can’t wait to party with you! \nRSVP Here!
URL:https://nightjarcannabis.com/event/halloweed-costume-party/
LOCATION:549 Bloomfield Ave\, Bloomfield\, NJ 07003\, USA
ATTACH;FMTTYPE=image/jpeg:https://nightjarcannabis.com/wp-content/uploads/2024/11/Halloweed_Screen_H-1536x864-1.jpeg
END:VEVENT
END:VCALENDAR