BEGIN:VCALENDAR
VERSION:2.0
PRODID:-//NIGHTJAR CANNABIS - ECPv6.15.20//NONSGML v1.0//EN
CALSCALE:GREGORIAN
METHOD:PUBLISH
X-WR-CALNAME:NIGHTJAR CANNABIS
X-ORIGINAL-URL:https://nightjarcannabis.com
X-WR-CALDESC:Events for NIGHTJAR CANNABIS
REFRESH-INTERVAL;VALUE=DURATION:PT1H
X-Robots-Tag:noindex
X-PUBLISHED-TTL:PT1H
BEGIN:VTIMEZONE
TZID:UTC
BEGIN:STANDARD
TZOFFSETFROM:+0000
TZOFFSETTO:+0000
TZNAME:UTC
DTSTART:20230101T000000
END:STANDARD
END:VTIMEZONE
BEGIN:VEVENT
DTSTART;TZID=UTC:20241121T180000
DTEND;TZID=UTC:20241121T210000
DTSTAMP:20260418T175001
CREATED:20241202T162237Z
LAST-MODIFIED:20241202T162237Z
UID:959-1732212000-1732222800@nightjarcannabis.com
SUMMARY:Highly Thankful Tasting Party
DESCRIPTION:Celebrate the season of thanks at Nightjar with our friends from Miss Grass! Join us as we taste the varieties Miss Grass has to offer and reflect on all the things we are most thankful for. Let us know you’re coming so we can plan for food and goodies 🙂 \n\nSpace will be limited at this one so RSVP to secure a spot! Feel free to send this to a bud you’re thankful for in case they’d like to come along\, too  \n\nRSVP here
URL:https://nightjarcannabis.com/event/highly-thankful-tasting-party/
LOCATION:549 Bloomfield Ave\, Bloomfield\, NJ 07003\, USA
ATTACH;FMTTYPE=image/jpeg:https://nightjarcannabis.com/wp-content/uploads/2024/12/Dutchie-Mobile-11.1x5-scaled-e1731421597876-1536x611-1.avif
END:VEVENT
END:VCALENDAR