BEGIN:VCALENDAR
VERSION:2.0
PRODID:-//NIGHTJAR CANNABIS - ECPv6.15.20//NONSGML v1.0//EN
CALSCALE:GREGORIAN
METHOD:PUBLISH
X-WR-CALNAME:NIGHTJAR CANNABIS
X-ORIGINAL-URL:https://nightjarcannabis.com
X-WR-CALDESC:Events for NIGHTJAR CANNABIS
REFRESH-INTERVAL;VALUE=DURATION:PT1H
X-Robots-Tag:noindex
X-PUBLISHED-TTL:PT1H
BEGIN:VTIMEZONE
TZID:UTC
BEGIN:STANDARD
TZOFFSETFROM:+0000
TZOFFSETTO:+0000
TZNAME:UTC
DTSTART:20230101T000000
END:STANDARD
END:VTIMEZONE
BEGIN:VEVENT
DTSTART;TZID=UTC:20241204T180000
DTEND;TZID=UTC:20241204T210000
DTSTAMP:20260418T054956
CREATED:20241202T162454Z
LAST-MODIFIED:20241202T162454Z
UID:962-1733335200-1733346000@nightjarcannabis.com
SUMMARY:Winter Wonderland Extravaganja 12/4 and 12/5
DESCRIPTION:We’ve got the warm and fuzzies here at Nightjar heading into the holiday season\, and we can’t wait to celebrate with you! To kick off our month-long in-store ❄️Winter Wonderland❄️ (think: snowy scapes\, cocoa by the fire\, great week\, your best buds)\, we hope you’ll join us for 2 special nights of Nightjar’s Winter Wonderland Extravaganja! Come for the snacks\, games\, and holiday cheer\, stay for the cozy vibes and giveaways and the best menu in town for all your holiday gifting! Yes\, TWO days in a row\, because we know how you all SHOW UP for our special events. Let us know you’re coming!!\n \n12/4: Spark up the Season with The Higher Functions’ dab bar and more from some of our favorite brands\n12/5: High for the Holidays featuring Ugly Sweater Contest and more holiday fun with more vendors galore\n\n\n\nBring your friends\, your favorite Elf on a Shelf\, or the Grinch Who Stole Christmas. Like we always do…we can’t wait to make some holiday fun and memories with you!
URL:https://nightjarcannabis.com/event/winter-wonderland-extravaganja-12-4-and-12-5/
LOCATION:CT
ATTACH;FMTTYPE=image/jpeg:https://nightjarcannabis.com/wp-content/uploads/2024/12/winterWonderland_Screen_H-1536x864-1.avif
END:VEVENT
END:VCALENDAR