BEGIN:VCALENDAR
VERSION:2.0
PRODID:-//NIGHTJAR CANNABIS - ECPv6.15.20//NONSGML v1.0//EN
CALSCALE:GREGORIAN
METHOD:PUBLISH
X-ORIGINAL-URL:https://nightjarcannabis.com
X-WR-CALDESC:Events for NIGHTJAR CANNABIS
REFRESH-INTERVAL;VALUE=DURATION:PT1H
X-Robots-Tag:noindex
X-PUBLISHED-TTL:PT1H
BEGIN:VTIMEZONE
TZID:UTC
BEGIN:STANDARD
TZOFFSETFROM:+0000
TZOFFSETTO:+0000
TZNAME:UTC
DTSTART:20240101T000000
END:STANDARD
END:VTIMEZONE
BEGIN:VEVENT
DTSTART;TZID=UTC:20250525T120000
DTEND;TZID=UTC:20250525T170000
DTSTAMP:20260418T150750
CREATED:20250514T190138Z
LAST-MODIFIED:20250818T220531Z
UID:1285-1748174400-1748192400@nightjarcannabis.com
SUMMARY:Grillin' and Chillin' at Nightjar - East Lyme
DESCRIPTION:Join us at Nightjar East Lyme for a barbecue blowout day of food\, games\, summer fun and deals galore! We’ll be celebrating MDW on Sunday 5/25 starting at 12pm. Let us know you’re coming so we can plan for food and goodies 🙂 \nLet Us Know You’re Coming!
URL:https://nightjarcannabis.com/event/grillin-and-chillin-at-nightjar-east-lyme/
LOCATION:15 Colton Road\, East Lyme\, CT 06333\, USA\, 15 Colton Road\, East Lyme\, CT\, 06333\, United States
ATTACH;FMTTYPE=image/jpeg:https://nightjarcannabis.com/wp-content/uploads/2025/05/nj25_memorial_Day_event_Dutchie_M.avif
END:VEVENT
END:VCALENDAR