BEGIN:VCALENDAR
VERSION:2.0
PRODID:-//NIGHTJAR CANNABIS - ECPv6.15.20//NONSGML v1.0//EN
CALSCALE:GREGORIAN
METHOD:PUBLISH
X-ORIGINAL-URL:https://nightjarcannabis.com
X-WR-CALDESC:Events for NIGHTJAR CANNABIS
REFRESH-INTERVAL;VALUE=DURATION:PT1H
X-Robots-Tag:noindex
X-PUBLISHED-TTL:PT1H
BEGIN:VTIMEZONE
TZID:UTC
BEGIN:STANDARD
TZOFFSETFROM:+0000
TZOFFSETTO:+0000
TZNAME:UTC
DTSTART:20240101T000000
END:STANDARD
END:VTIMEZONE
BEGIN:VEVENT
DTSTART;TZID=UTC:20250628T170000
DTEND;TZID=UTC:20250628T200000
DTSTAMP:20260418T150242
CREATED:20250603T165340Z
LAST-MODIFIED:20250818T220524Z
UID:1310-1751130000-1751140800@nightjarcannabis.com
SUMMARY:Drag Bingo and Trivia at Nightjar
DESCRIPTION:Join us for Trivia with Hades and Bingo with VeryGerryNYC! Choose what experience you want and each host will perform 2 rounds of their game\, ending with a performance. 30 minute rounds so you can play both games! \nRSVP HERE!\n 
URL:https://nightjarcannabis.com/event/drag-bingo-and-trivia-at-nightjar/
LOCATION:549 Bloomfield Ave\, Bloomfield\, NJ 07003\, USA
ATTACH;FMTTYPE=image/jpeg:https://nightjarcannabis.com/wp-content/uploads/2025/06/drag_bingo_Dutchie_M.avif
END:VEVENT
END:VCALENDAR