BEGIN:VCALENDAR
VERSION:2.0
PRODID:-//NIGHTJAR CANNABIS - ECPv6.15.20//NONSGML v1.0//EN
CALSCALE:GREGORIAN
METHOD:PUBLISH
X-ORIGINAL-URL:https://nightjarcannabis.com
X-WR-CALDESC:Events for NIGHTJAR CANNABIS
REFRESH-INTERVAL;VALUE=DURATION:PT1H
X-Robots-Tag:noindex
X-PUBLISHED-TTL:PT1H
BEGIN:VTIMEZONE
TZID:UTC
BEGIN:STANDARD
TZOFFSETFROM:+0000
TZOFFSETTO:+0000
TZNAME:UTC
DTSTART:20240101T000000
END:STANDARD
END:VTIMEZONE
BEGIN:VEVENT
DTSTART;TZID=UTC:20250725T170000
DTEND;TZID=UTC:20250725T200000
DTSTAMP:20260420T105441
CREATED:20250715T190842Z
LAST-MODIFIED:20250818T220518Z
UID:1343-1753462800-1753473600@nightjarcannabis.com
SUMMARY:Nightjar's Summer Carnival
DESCRIPTION:Step right up! Join us for a retro Coney Island–inspired evening packed with food\, games\, and giveaways galore. Bring your friends and soak up the summer vibes! RSVP so we know how much food to get <3 \n  \nRSVP Here
URL:https://nightjarcannabis.com/event/nightjars-summer-carnival/
LOCATION:549 Bloomfield Ave\, Bloomfield\, NJ 07003\, USA
ATTACH;FMTTYPE=image/jpeg:https://nightjarcannabis.com/wp-content/uploads/2025/07/summer_carnival_Dutchie_M-1.avif
END:VEVENT
END:VCALENDAR