BEGIN:VCALENDAR
VERSION:2.0
PRODID:-//NIGHTJAR CANNABIS - ECPv6.15.20//NONSGML v1.0//EN
CALSCALE:GREGORIAN
METHOD:PUBLISH
X-WR-CALNAME:NIGHTJAR CANNABIS
X-ORIGINAL-URL:https://nightjarcannabis.com
X-WR-CALDESC:Events for NIGHTJAR CANNABIS
REFRESH-INTERVAL;VALUE=DURATION:PT1H
X-Robots-Tag:noindex
X-PUBLISHED-TTL:PT1H
BEGIN:VTIMEZONE
TZID:UTC
BEGIN:STANDARD
TZOFFSETFROM:+0000
TZOFFSETTO:+0000
TZNAME:UTC
DTSTART:20240101T000000
END:STANDARD
END:VTIMEZONE
BEGIN:VEVENT
DTSTART;TZID=UTC:20250822T180000
DTEND;TZID=UTC:20250822T210000
DTSTAMP:20260418T140135
CREATED:20250804T180638Z
LAST-MODIFIED:20250818T220513Z
UID:1388-1755885600-1755896400@nightjarcannabis.com
SUMMARY:Nightjar's Backyard Barbecue
DESCRIPTION:Nothing says summer like a backyard barbecue. Come by and kick back with the Nightjar crew over bites\, games\, and all the good stuff. RSVP so we know how much food to get! \n  \nRSVP HERE
URL:https://nightjarcannabis.com/event/nightjars-backyard-barbecue/
LOCATION:549 Bloomfield Ave\, Bloomfield\, NJ 07003\, USA
END:VEVENT
BEGIN:VEVENT
DTSTART;TZID=UTC:20250827T000000
DTEND;TZID=UTC:20250827T000000
DTSTAMP:20260418T140135
CREATED:20250827T184028Z
LAST-MODIFIED:20260202T150812Z
UID:1510-1756252800-1756252800@nightjarcannabis.com
SUMMARY:Lifted With The Locals at Nightjar East Lyme
DESCRIPTION:Join us for Lifted With The Locals at Nightjar on 9/27 from 1pm-5pm. We’ll have lots of different vendors\, food\, games\, music and more. RSVP today so we know how much food to get! \nRSVP HERE
URL:https://nightjarcannabis.com/event/lifted-with-the-locals-at-nightjar/
LOCATION:CT
END:VEVENT
END:VCALENDAR