BEGIN:VCALENDAR
VERSION:2.0
PRODID:-//NIGHTJAR CANNABIS - ECPv6.15.20//NONSGML v1.0//EN
CALSCALE:GREGORIAN
METHOD:PUBLISH
X-WR-CALNAME:NIGHTJAR CANNABIS
X-ORIGINAL-URL:https://nightjarcannabis.com
X-WR-CALDESC:Events for NIGHTJAR CANNABIS
REFRESH-INTERVAL;VALUE=DURATION:PT1H
X-Robots-Tag:noindex
X-PUBLISHED-TTL:PT1H
BEGIN:VTIMEZONE
TZID:UTC
BEGIN:STANDARD
TZOFFSETFROM:+0000
TZOFFSETTO:+0000
TZNAME:UTC
DTSTART:20240101T000000
END:STANDARD
END:VTIMEZONE
BEGIN:VEVENT
DTSTART;TZID=UTC:20251005T083000
DTEND;TZID=UTC:20251005T130000
DTSTAMP:20260419T051531
CREATED:20250908T183927Z
LAST-MODIFIED:20260202T150712Z
UID:1538-1759653000-1759669200@nightjarcannabis.com
SUMMARY:Yoga With Happy Confection at Nightjar East Lyme
DESCRIPTION:Join us for yoga with The Happy Confection at Nightjar on 10/5! \n  \nRSVP Here!
URL:https://nightjarcannabis.com/event/yoga-with-happy-confection-nightjar-east-lyme/
LOCATION:15 Colton Road\, East Lyme\, CT 06333\, USA\, 15 Colton Road\, East Lyme\, CT\, 06333\, United States
END:VEVENT
BEGIN:VEVENT
DTSTART;TZID=UTC:20251031T180000
DTEND;TZID=UTC:20251031T210000
DTSTAMP:20260419T051531
CREATED:20250930T184537Z
LAST-MODIFIED:20260202T150824Z
UID:1603-1761933600-1761944400@nightjarcannabis.com
SUMMARY:Halloweed Celebration at Nightjar Cannabis
DESCRIPTION:Join us for HALLOWEED-KEND here at Nightjar for a scary good time! Come dressed to impress with your best costume! We’ll have all the treats\, a raffle\, FREE FOOD\, giveaways and possibly even a trick or two Tell your friends\, tell your attic ghost\, tell your enemies! \n  \nRSVP Here!
URL:https://nightjarcannabis.com/event/halloweed-nightjar-on-10-31/
LOCATION:549 Bloomfield Ave\, Bloomfield\, NJ 07003\, USA
ATTACH;FMTTYPE=image/jpeg:https://nightjarcannabis.com/wp-content/uploads/2025/09/Halloweed_party_Dutchie_M.avif
END:VEVENT
END:VCALENDAR